BEGIN:VCALENDAR
VERSION:2.0
PRODID:-//Macquarie Park Innovation District - ECPv4.6.19//NONSGML v1.0//EN
CALSCALE:GREGORIAN
METHOD:PUBLISH
X-WR-CALNAME:Macquarie Park Innovation District
X-ORIGINAL-URL:https://mpid.com.au
X-WR-CALDESC:Events for Macquarie Park Innovation District
BEGIN:VEVENT
DTSTART;TZID=UTC+0:20181031T150000
DTEND;TZID=UTC+0:20181031T160000
DTSTAMP:20200302T031308
CREATED:20181018T000344Z
LAST-MODIFIED:20181018T000344Z
UID:1229-1540998000-1541001600@mpid.com.au
SUMMARY:Optus Small to Medium Business CyberSecurity
DESCRIPTION:Many SMEs believe they can protect their business from cybercrime by limiting their online presence. The digital world will continue to grow &#8211; don’t be afraid to get online and promote your business. Learn how to recognise and defend your small business against potential cybercrime from Optus Cyber Security experts. \n
URL:https://mpid.com.au/event/optus-small-to-medium-business-cybersecurity/
LOCATION:Level 9\, 11-31 York Street\, Sydney\, NSW\, 2000\, Australia
ATTACH;FMTTYPE=image/jpeg:https://mpid.com.au/wp-content/uploads/2018/10/https_2f2fcdn.evbuc_.com2fimages2f508465612f2522781070522f12foriginal.jpg
END:VEVENT
END:VCALENDAR