BEGIN:VCALENDAR
VERSION:2.0
PRODID:-//Macquarie Park Innovation District - ECPv4.6.19//NONSGML v1.0//EN
CALSCALE:GREGORIAN
METHOD:PUBLISH
X-WR-CALNAME:Macquarie Park Innovation District
X-ORIGINAL-URL:https://mpid.com.au
X-WR-CALDESC:Events for Macquarie Park Innovation District
BEGIN:VEVENT
DTSTART;TZID=UTC+0:20181110T103000
DTEND;TZID=UTC+0:20181110T120000
DTSTAMP:20200302T032412
CREATED:20181106T041502Z
LAST-MODIFIED:20181106T041502Z
UID:1263-1541845800-1541851200@mpid.com.au
SUMMARY:Mayor's Morning Tea
DESCRIPTION:Come along to Jim Walsh Park and meet The Mayor\, Councillor Jerome Laxale\, for a free Morning Tea on 10 November 2018. \n
URL:https://mpid.com.au/event/mayors-morning-tea-3/
LOCATION:Graham Avenue\, Eastwood\, NSW\, 2122\, Australia
ATTACH;FMTTYPE=image/jpeg:https://mpid.com.au/wp-content/uploads/2018/07/mayors-lunch-2.jpg
END:VEVENT
END:VCALENDAR