BEGIN:VCALENDAR
VERSION:2.0
PRODID:-//Macquarie Park Innovation District - ECPv4.6.19//NONSGML v1.0//EN
CALSCALE:GREGORIAN
METHOD:PUBLISH
X-WR-CALNAME:Macquarie Park Innovation District
X-ORIGINAL-URL:https://mpid.com.au
X-WR-CALDESC:Events for Macquarie Park Innovation District
BEGIN:VEVENT
DTSTART;TZID=UTC+0:20181020T090000
DTEND;TZID=UTC+0:20181020T200000
DTSTAMP:20200302T032229
CREATED:20181004T034719Z
LAST-MODIFIED:20181004T034719Z
UID:1173-1540026000-1540065600@mpid.com.au
SUMMARY:Granny Smith Festival 2018
DESCRIPTION:The Granny Smith Festival began in 1985 and is now regarded as one of Sydney’s largest street festivals\, a true community carnival\, full of colour and good old fashioned fun. \n
URL:https://mpid.com.au/event/granny-smith-festival-2018/
ATTACH;FMTTYPE=image/jpeg:https://mpid.com.au/wp-content/uploads/2018/10/2017-gsf_mrec.jpg
END:VEVENT
END:VCALENDAR