BEGIN:VCALENDAR
VERSION:2.0
PRODID:-//Macquarie Park Innovation District - ECPv4.6.19//NONSGML v1.0//EN
CALSCALE:GREGORIAN
METHOD:PUBLISH
X-WR-CALNAME:Macquarie Park Innovation District
X-ORIGINAL-URL:http://mpid.com.au
X-WR-CALDESC:Events for Macquarie Park Innovation District
BEGIN:VEVENT
DTSTART;TZID=UTC+0:20190301T120000
DTEND;TZID=UTC+0:20190301T130000
DTSTAMP:20190227T132009
CREATED:20190212T024428Z
LAST-MODIFIED:20190212T024428Z
UID:1431-1551441600-1551445200@mpid.com.au
SUMMARY:Women Leaders and Innovators Lunch
DESCRIPTION:Are you a woman interested in leadership\, innovation\, entrepreneurship and all things related? Then our monthly Leadership Lunch is for you. Hosted by the Macquarie University Incubator\, the lunch aims to increase the participation of women in entrepreneurship and leadership roles\, encouraging growth and development through the support\, real-life experiences\, and wisdom of other participants and speakers in our community. The event is open to everyone – staff\, students\, externals of all ages and levels of experience. We meet on the first Friday of every month. \n
URL:http://mpid.com.au/event/women-leaders-and-innovators-lunch-6/
LOCATION:8 Hadenfeld Avenue Macquarie University\, Sydney\, NSW\, 2109\, Australia
ATTACH;FMTTYPE=image/jpeg:http://mpid.com.au/wp-content/uploads/2019/02/https___cdn.evbuc_.com_images_56579161_206160390093_1_original.jpg
END:VEVENT
BEGIN:VEVENT
DTSTART;TZID=UTC+0:20190304T100000
DTEND;TZID=UTC+0:20190304T120000
DTSTAMP:20190227T132009
CREATED:20190201T010706Z
LAST-MODIFIED:20190201T010706Z
UID:1422-1551693600-1551700800@mpid.com.au
SUMMARY:Understanding Marketing Workshops
DESCRIPTION:City of Ryde in partnership with the Community Migrant Resource Centre (CMRC) are holding a FREE ‘Understanding Marketing’ Workshop scheduled to support you in your business journey. \n
URL:http://mpid.com.au/event/understanding-marketing-workshops/
LOCATION:1 Pope St\, Ryde\, Sydney\, NSW\, 2112\, Australia
ATTACH;FMTTYPE=image/jpeg:http://mpid.com.au/wp-content/uploads/2019/02/2017-02-back-to-business-week_mrec.jpg
END:VEVENT
BEGIN:VEVENT
DTSTART;TZID=UTC+0:20190308T090000
DTEND;TZID=UTC+0:20190308T123000
DTSTAMP:20190227T132009
CREATED:20190212T025204Z
LAST-MODIFIED:20190212T025204Z
UID:1434-1552035600-1552048200@mpid.com.au
SUMMARY:Women Who Change the World
DESCRIPTION:In conjunction with International Women’s Day and Macquarie University’s Master of Social Entrepreneurship\, we are delighted to invite you to a free event that will inspire women from all walks of life. \nThis lecture series and panel discussion will see female social activists and entrepreneurs take the stage to discuss their journey of becoming change makers\, shed light on the power of women to make a macro level impact and share the story of their organisation. \n
URL:http://mpid.com.au/event/women-who-change-the-world/
LOCATION:Sydney\, NSW 2109\, NSW\, Australia
ATTACH;FMTTYPE=image/png:http://mpid.com.au/wp-content/uploads/2019/02/5f529d17b7f14324be083599a4d5a5ae.png
END:VEVENT
BEGIN:VEVENT
DTSTART;TZID=UTC+0:20190313T183000
DTEND;TZID=UTC+0:20190313T193000
DTSTAMP:20190227T132010
CREATED:20190201T010938Z
LAST-MODIFIED:20190201T010938Z
UID:1427-1552501800-1552505400@mpid.com.au
SUMMARY:Infocus: Fight Against Fraud
DESCRIPTION:Discover practical ways to help you stay secure in a world of increasing risk both online and off. \nLearn current scam methods & discover features offered by most financial institutions to help you stay on top of what is happening with your money. \nPresented by LCU (Local Credit Union). \n
URL:http://mpid.com.au/event/infocus-fight-against-fraud/
LOCATION:1 Pope St\, Ryde\, Sydney\, NSW\, 2112\, Australia
ATTACH;FMTTYPE=image/jpeg:http://mpid.com.au/wp-content/uploads/2019/02/2019-01-fraud-mrec.jpg
END:VEVENT
BEGIN:VEVENT
DTSTART;TZID=UTC+0:20190329T090000
DTEND;TZID=UTC+0:20190329T180000
DTSTAMP:20190227T132010
CREATED:20190212T025824Z
LAST-MODIFIED:20190212T025824Z
UID:1437-1553850000-1553882400@mpid.com.au
SUMMARY:Financial Risk Day 2019
DESCRIPTION:The Centre for Financial Risk in the Faculty of Business and Economics will host its 9th annual conference in March 2019. \nFunding retirement for an ageing population is a growing challenge. It will require industry and government to carefully consider a range of options\, including novel and sophisticated approaches to funding through annuities and other financial instruments. \nThe 2019 Financial Risk Day conference will consider both the specific and broad approaches for government\, aged care organisations\, financial institutions and product providers to develop solutions that meet the needs of individuals as well as the broader retirement community. \nExperts from industry\, regulation and academia will discuss how to ensure standards of living can be preserved or enhanced as the population ages. \nOur speakers: \n\nPiet De Jong &#8211; Professor of Actuarial Studies\, Macquarie University\nDavid Knox &#8211; Senior Partner and Senior Actuary\, Mercer\nCraig McCulloch &#8211; Principal\, Milliman\nKevin O&#8217;Sullivan &#8211; Chief Executive Officer\, UniSuper\nMichael Rice &#8211; Chief Executive Officer\, Rice Warner\nMichael Sherris &#8211; Professor of Actuarial Studies\, University of New South Wales\nGuy Thorburn &#8211; Australian Government Actuary\, Commonwealth Treasury\n\nThe event is intended for banking and financial specialists\, risk and compliance managers\, actuaries and insurance professionals\, fund managers\, regulators\, policy analysts\, academic researchers and consultants. \n
URL:http://mpid.com.au/event/financial-risk-day-2019/
LOCATION:Level 24\, 123 Pitt Street\, Sydney\, NSW\, 2109
ATTACH;FMTTYPE=image/png:http://mpid.com.au/wp-content/uploads/2019/02/4eb1531ba3244018b4d9932b41075f05.png
END:VEVENT
BEGIN:VEVENT
DTSTART;VALUE=DATE:20190404
DTEND;VALUE=DATE:20190406
DTSTAMP:20190227T132010
CREATED:20190212T030623Z
LAST-MODIFIED:20190212T030623Z
UID:1440-1554336000-1554508799@mpid.com.au
SUMMARY:3RD AUSTRALASIAN COMMODITY MARKETS CONFERENCE
DESCRIPTION:Join us for the 3rd Australasian Commodity Markets Conference\, a conference at Macquarie University to present and discuss high-quality research in all areas of economics and finance related to commodity markets\, with an emphasis on – but not limited to – the Australasian aspects of commodity markets and energy risk. \n
URL:http://mpid.com.au/event/3rd-australasian-commodity-markets-conference/
LOCATION:Level 24\, 123 Pitt Street\, Sydney\, NSW\, 2109
ATTACH;FMTTYPE=image/png:http://mpid.com.au/wp-content/uploads/2019/02/mq-conference_digital-banner_microsite-1000x400px_fa-215x86.png
END:VEVENT
BEGIN:VEVENT
DTSTART;TZID=UTC+0:20190415T100000
DTEND;TZID=UTC+0:20190415T120000
DTSTAMP:20190227T132010
CREATED:20190201T010801Z
LAST-MODIFIED:20190201T010801Z
UID:1425-1555322400-1555329600@mpid.com.au
SUMMARY:Understanding Marketing Workshops
DESCRIPTION:City of Ryde in partnership with the Community Migrant Resource Centre (CMRC) are holding a FREE ‘Understanding Marketing’ Workshop scheduled to support you in your business journey. \n
URL:http://mpid.com.au/event/understanding-marketing-workshops-2/
LOCATION:1 Pope St\, Ryde\, Sydney\, NSW\, 2112\, Australia
ATTACH;FMTTYPE=image/jpeg:http://mpid.com.au/wp-content/uploads/2019/02/2017-02-back-to-business-week_mrec.jpg
END:VEVENT
END:VCALENDAR